BEGIN:VCALENDAR
VERSION:2.0
PRODID:-//Empowering Pumps and Equipment - ECPv6.15.19//NONSGML v1.0//EN
CALSCALE:GREGORIAN
METHOD:PUBLISH
X-ORIGINAL-URL:https://empoweringpumps.com
X-WR-CALDESC:Events for Empowering Pumps and Equipment
REFRESH-INTERVAL;VALUE=DURATION:PT1H
X-Robots-Tag:noindex
X-PUBLISHED-TTL:PT1H
BEGIN:VTIMEZONE
TZID:America/Chicago
BEGIN:DAYLIGHT
TZOFFSETFROM:-0600
TZOFFSETTO:-0500
TZNAME:CDT
DTSTART:20190310T080000
END:DAYLIGHT
BEGIN:STANDARD
TZOFFSETFROM:-0500
TZOFFSETTO:-0600
TZNAME:CST
DTSTART:20191103T070000
END:STANDARD
BEGIN:DAYLIGHT
TZOFFSETFROM:-0600
TZOFFSETTO:-0500
TZNAME:CDT
DTSTART:20200308T080000
END:DAYLIGHT
BEGIN:STANDARD
TZOFFSETFROM:-0500
TZOFFSETTO:-0600
TZNAME:CST
DTSTART:20201101T070000
END:STANDARD
BEGIN:DAYLIGHT
TZOFFSETFROM:-0600
TZOFFSETTO:-0500
TZNAME:CDT
DTSTART:20210314T080000
END:DAYLIGHT
BEGIN:STANDARD
TZOFFSETFROM:-0500
TZOFFSETTO:-0600
TZNAME:CST
DTSTART:20211107T070000
END:STANDARD
END:VTIMEZONE
BEGIN:VTIMEZONE
TZID:America/New_York
BEGIN:DAYLIGHT
TZOFFSETFROM:-0500
TZOFFSETTO:-0400
TZNAME:EDT
DTSTART:20190310T070000
END:DAYLIGHT
BEGIN:STANDARD
TZOFFSETFROM:-0400
TZOFFSETTO:-0500
TZNAME:EST
DTSTART:20191103T060000
END:STANDARD
BEGIN:DAYLIGHT
TZOFFSETFROM:-0500
TZOFFSETTO:-0400
TZNAME:EDT
DTSTART:20200308T070000
END:DAYLIGHT
BEGIN:STANDARD
TZOFFSETFROM:-0400
TZOFFSETTO:-0500
TZNAME:EST
DTSTART:20201101T060000
END:STANDARD
BEGIN:DAYLIGHT
TZOFFSETFROM:-0500
TZOFFSETTO:-0400
TZNAME:EDT
DTSTART:20210314T070000
END:DAYLIGHT
BEGIN:STANDARD
TZOFFSETFROM:-0400
TZOFFSETTO:-0500
TZNAME:EST
DTSTART:20211107T060000
END:STANDARD
END:VTIMEZONE
BEGIN:VEVENT
DTSTART;TZID=America/Chicago:20201105T080000
DTEND;TZID=America/Chicago:20201106T170000
DTSTAMP:20260419T074505
CREATED:20201020T214629Z
LAST-MODIFIED:20201020T214629Z
UID:40480-1604563200-1604682000@empoweringpumps.com
SUMMARY:WWEMA Virtual 112th Annual Meeting
DESCRIPTION:All aspects of our lives have been dramatically changed over the last seven months due to the COVID-19 pandemic. These changes have been particularly acute for businesses and utilities in the water sector\, as they have affected revenue\, growth strategies\, workplaces\, workforce health and safety\, travel\, customer relations\, and even contracting protocols. Every aspect of our work has been abruptly impacted and this disruption is likely to continue for the foreseeable future. The Water and Wastewater Equipment Manufacturers Association (WWEMA) is extending an open invitation to everyone in the water sector to join us for our 112th Annual Meeting titled\, Navigating Unchartered Waters – Steering Your Business to Success. We have a stellar line-up of speakers who will be sharing their insights on technology trends affecting our work and how to take advantage of these rapid changes\, the state economic and fiscal picture as well as the broader economic outlook\, and legislative as well as regulatory actions that will impact the water sector into 2021 and beyond. With the election around the corner there is even more uncertainty about what the future may hold. Join us on November 5-6\, 2020 to learn what you need to know to Navigate Unchartered Waters. \nREGISTRATION DETAILS – NEW REGISTRATION PACKAGES AVAILABLE\nWe are pleased to announce that this year’s Virtual 112th Annual Meeting is open to the entire water sector to attend. Given the challenges of 2020 and the importance of educating and sharing information with the broader water community\, we have created ticket packages that will allow attendees to invite multiple staff\, customers and clients\, consulting engineering firms\, utilities\, manufacturers representatives\, manufacturers\, and others to attend this event. “Tickets” are available for single registrants ($129) and packages of up to 5 ($250) and up to 10 ($450) attendees. Our goal is to share this invitation far and wide and bring a large\, diverse attendance to the meeting to learn from an outstanding list of speakers and each other. Topics will cover the economy\, trends in technology\, state fiscal conditions\, and regulatory and legislative updates. We invite you to consider using these packages to extend personal invitations to your network. \nEVENT DETAILS\nWWEMA will be using the Whova Platform for our virtual event. This user-friendly platform will allow for enhanced networking and information sharing. All presentations and related materials will remain on the Whova web app for 90 days and on the Whova mobile app for 180 days so attendees can go back and review presentations or listen to any presentations they may have missed. \nONLINE AGENDA\nPDF EVENT PROGRAM\nSPEAKER BIOS\nSPONSORS \nRegister here!
URL:https://empoweringpumps.com/event/wwema-virtual-112th-annual-meeting/
LOCATION:Whova
ATTACH;FMTTYPE=image/png:https://empoweringpumps.com/wp-content/uploads/2020/10/WWEMA-Uncharted-waters.png
END:VEVENT
BEGIN:VEVENT
DTSTART;TZID=America/Chicago:20201110T080000
DTEND;TZID=America/Chicago:20201110T170000
DTSTAMP:20260419T074505
CREATED:20201020T142906Z
LAST-MODIFIED:20201020T142906Z
UID:40457-1604995200-1605027600@empoweringpumps.com
SUMMARY:SWPA’s 2020 Annual Meeting
DESCRIPTION:The Submersible Wastewater Pump Association (SWPA) is a national trade association representing and serving the manufacturers of submersible pumps for municipal and industrial wastewater applications. Founded in 1976\, the association’s primary focus is on industry guidelines\, education and promotion. \nSWPA Annual Meeting\nSpecial Presentations by Tom Decker (Tom Decker Consulting) – State of The Wastewater Industry\nVanessa Leiby (WWEMA Executive Director) – Legislation and Water and Wastewater 2020\nAdam Stolberg (SWPA Executive Director) – 2021 Water and Wastewater Industry Outlook – and COVID 19 \nLearn more! \nWatch our Knowledge Shared Video Series featuring SWPA.
URL:https://empoweringpumps.com/event/swpas-2020-annual-meeting/
LOCATION:Webinar
ATTACH;FMTTYPE=image/png:https://empoweringpumps.com/wp-content/uploads/2020/10/SWPA.png
END:VEVENT
BEGIN:VEVENT
DTSTART;TZID=America/Chicago:20201110T080000
DTEND;TZID=America/Chicago:20201111T170000
DTSTAMP:20260419T074505
CREATED:20200917T135656Z
LAST-MODIFIED:20200917T135656Z
UID:39721-1604995200-1605114000@empoweringpumps.com
SUMMARY:The AWWA SWAN International Smart Water Symposium has gone virtual!
DESCRIPTION:Join AWWA online to learn about and discuss data-driven solutions to global water challenges. The virtual symposium will highlight smart water innovations from multiple perspectives and help attendees master how to use digital solutions to operate water utilities more efficiently\, while increasing their resilience to cyber hazards.
URL:https://empoweringpumps.com/event/the-awwa-swan-international-smart-water-symposium-has-gone-virtual/
LOCATION:Webinar
ATTACH;FMTTYPE=image/png:https://empoweringpumps.com/wp-content/uploads/2020/09/The-AWWA│SWAN-International-Smart-Water-Symposium-has-gone-virtual-e1600350337156.png
END:VEVENT
BEGIN:VEVENT
DTSTART;TZID=America/New_York:20201111T133000
DTEND;TZID=America/New_York:20201111T150000
DTSTAMP:20260419T074505
CREATED:20201102T153201Z
LAST-MODIFIED:20201104T162906Z
UID:40669-1605101400-1605106800@empoweringpumps.com
SUMMARY:Avoid the Pitfalls of Oversizing Booster Systems and Drawdown Tanks.
DESCRIPTION:One of the more difficult aspects of planning and designing plumbing systems is the sizing of booster packages. The sizing process for any mechanical system can be challenging\, but the industry literature on booster sizing offers no universally accepted approach or standard; whilst literature on sizing hydropneumatics (expansion) tanks are often focused on closed-loop systems. Issues associated with under-sizing is well documented and felt almost immediately. But over-sizing presents its own set of issues\, including excessive consumption of energy and water\, pre-mature equipment wear\, exacerbation of leaks\, and contamination due to long term stagnation. Join us Wednesday\, November 11 @ 1:30 PM for a crash course on how to right-size and select booster packages and drawdown tanks. This session will be of interest to design engineers\, contractors\, and building developers. PDH certificates are available on request. \nRegister Here!
URL:https://empoweringpumps.com/event/armstrong-avoid-the-pitfalls-of-oversizing-booster-systems-and-drawdown-tanks/
LOCATION:Webinar
ATTACH;FMTTYPE=image/jpeg:https://empoweringpumps.com/wp-content/uploads/2020/02/armstrong-doe-2020-.jpg
END:VEVENT
END:VCALENDAR