BEGIN:VCALENDAR
VERSION:2.0
PRODID:-//Empowering Pumps and Equipment - ECPv6.15.19//NONSGML v1.0//EN
CALSCALE:GREGORIAN
METHOD:PUBLISH
X-WR-CALNAME:Empowering Pumps and Equipment
X-ORIGINAL-URL:https://empoweringpumps.com
X-WR-CALDESC:Events for Empowering Pumps and Equipment
REFRESH-INTERVAL;VALUE=DURATION:PT1H
X-Robots-Tag:noindex
X-PUBLISHED-TTL:PT1H
BEGIN:VTIMEZONE
TZID:Asia/Singapore
BEGIN:STANDARD
TZOFFSETFROM:+0800
TZOFFSETTO:+0800
TZNAME:+08
DTSTART:20220101T000000
END:STANDARD
END:VTIMEZONE
BEGIN:VEVENT
DTSTART;TZID=Asia/Singapore:20230614T080000
DTEND;TZID=Asia/Singapore:20230614T170000
DTSTAMP:20260425T093053
CREATED:20230314T183005Z
LAST-MODIFIED:20230314T184053Z
UID:52084-1686729600-1686762000@empoweringpumps.com
SUMMARY:LRVS APAC
DESCRIPTION:LRVS has become a community of like minded professionals who can connect\, collaborate and add value to each other. It is a platform where stakeholders from across various sectors such as Oil & Gas\, Petrochemical\, Manufacturing\, Mining\, Energy and so many more can share ideas\, chart new ways to revolutionize the sector and stay informed of the current trends. \nLRVS is a meeting place for major global stakeholders and game changers who are making their impact on the world. Join us! \nJune 14\, 2023​\n9 am-5 pm Singapore time (GMT+8)
URL:https://empoweringpumps.com/event/lrvs-apac/
LOCATION:Webinar
ATTACH;FMTTYPE=image/jpeg:https://empoweringpumps.com/wp-content/uploads/2023/03/Fluitec-LRVS-2023-Banner-1050x550-Empowering-Pumps-Promo.jpg
END:VEVENT
END:VCALENDAR