BEGIN:VCALENDAR
VERSION:2.0
PRODID:-//Empowering Pumps and Equipment - ECPv6.15.19//NONSGML v1.0//EN
CALSCALE:GREGORIAN
METHOD:PUBLISH
X-WR-CALNAME:Empowering Pumps and Equipment
X-ORIGINAL-URL:https://empoweringpumps.com
X-WR-CALDESC:Events for Empowering Pumps and Equipment
REFRESH-INTERVAL;VALUE=DURATION:PT1H
X-Robots-Tag:noindex
X-PUBLISHED-TTL:PT1H
BEGIN:VTIMEZONE
TZID:America/Chicago
BEGIN:DAYLIGHT
TZOFFSETFROM:-0600
TZOFFSETTO:-0500
TZNAME:CDT
DTSTART:20220313T080000
END:DAYLIGHT
BEGIN:STANDARD
TZOFFSETFROM:-0500
TZOFFSETTO:-0600
TZNAME:CST
DTSTART:20221106T070000
END:STANDARD
BEGIN:DAYLIGHT
TZOFFSETFROM:-0600
TZOFFSETTO:-0500
TZNAME:CDT
DTSTART:20230312T080000
END:DAYLIGHT
BEGIN:STANDARD
TZOFFSETFROM:-0500
TZOFFSETTO:-0600
TZNAME:CST
DTSTART:20231105T070000
END:STANDARD
BEGIN:DAYLIGHT
TZOFFSETFROM:-0600
TZOFFSETTO:-0500
TZNAME:CDT
DTSTART:20240310T080000
END:DAYLIGHT
BEGIN:STANDARD
TZOFFSETFROM:-0500
TZOFFSETTO:-0600
TZNAME:CST
DTSTART:20241103T070000
END:STANDARD
END:VTIMEZONE
BEGIN:VEVENT
DTSTART;TZID=America/Chicago:20230509T080000
DTEND;TZID=America/Chicago:20230510T170000
DTSTAMP:20260425T093052
CREATED:20230420T201203Z
LAST-MODIFIED:20230420T202056Z
UID:52690-1683619200-1683738000@empoweringpumps.com
SUMMARY:Work Management Maintenance Planning and Scheduling Training
DESCRIPTION:Learn in person or online\n2023 Dates\nMay 9 -10 OR October 2 – 3 in Raleigh\, NC\nThis course delivers the fundamental best practices and tools for planning and scheduling of maintenance work. Download the outline \nLearn: \n\nWhat planners should be doing\nHow to screen and approve work orders based on real priorities not emotions\nHow to manage your backlog\nHow to plan work and schedule work that uses resources effectively\nHow to implement a Work Management System that improves uptime and keeps your team safe!\n\nYou’ll receive IDCON’s “Maintenance Planning and Scheduling” book with your course registration\, a $99 value. \nThis course aligns to SMRP’s Work Management Pillar of the Body of Knowledge and awards 12 course instruction hours \nStart your RMIC® certification journey with UT Knoxville and IDCON. As an approved provider 3 of our courses satisfies a portion of the certification. Learn more
URL:https://empoweringpumps.com/event/idcon-work-management-maintenance-planning-and-scheduling-training/
LOCATION:Raleigh\, NC\, Raleigh\, NC\, United States
ATTACH;FMTTYPE=image/png:https://empoweringpumps.com/wp-content/uploads/2023/04/Idcon-Maintenacne-Planning-training-1.png
END:VEVENT
END:VCALENDAR