BEGIN:VCALENDAR
VERSION:2.0
PRODID:-//Empowering Pumps and Equipment - ECPv6.15.19//NONSGML v1.0//EN
CALSCALE:GREGORIAN
METHOD:PUBLISH
X-WR-CALNAME:Empowering Pumps and Equipment
X-ORIGINAL-URL:https://empoweringpumps.com
X-WR-CALDESC:Events for Empowering Pumps and Equipment
REFRESH-INTERVAL;VALUE=DURATION:PT1H
X-Robots-Tag:noindex
X-PUBLISHED-TTL:PT1H
BEGIN:VTIMEZONE
TZID:America/Chicago
BEGIN:DAYLIGHT
TZOFFSETFROM:-0600
TZOFFSETTO:-0500
TZNAME:CDT
DTSTART:20230312T080000
END:DAYLIGHT
BEGIN:STANDARD
TZOFFSETFROM:-0500
TZOFFSETTO:-0600
TZNAME:CST
DTSTART:20231105T070000
END:STANDARD
BEGIN:DAYLIGHT
TZOFFSETFROM:-0600
TZOFFSETTO:-0500
TZNAME:CDT
DTSTART:20240310T080000
END:DAYLIGHT
BEGIN:STANDARD
TZOFFSETFROM:-0500
TZOFFSETTO:-0600
TZNAME:CST
DTSTART:20241103T070000
END:STANDARD
BEGIN:DAYLIGHT
TZOFFSETFROM:-0600
TZOFFSETTO:-0500
TZNAME:CDT
DTSTART:20250309T080000
END:DAYLIGHT
BEGIN:STANDARD
TZOFFSETFROM:-0500
TZOFFSETTO:-0600
TZNAME:CST
DTSTART:20251102T070000
END:STANDARD
END:VTIMEZONE
BEGIN:VEVENT
DTSTART;TZID=America/Chicago:20240403T110000
DTEND;TZID=America/Chicago:20240403T120000
DTSTAMP:20260424T035224
CREATED:20240328T190051Z
LAST-MODIFIED:20240328T190051Z
UID:57477-1712142000-1712145600@empoweringpumps.com
SUMMARY:Pump & System Interaction
DESCRIPTION:Engineers understand how to create a pump and system curve for a simple piping flow path. However\, there are many times when a unique system curve may not even exist if one can even be created. This webinar will help you better understand how pumps and systems interact with each other and how to create pump vs. system curves that are useful. You will also learn about the cases in which system curves can quickly lose their usefulness. \nWednesday\, April 3\, 2024 \n10:00 AM – 11:00 AM (MDT) \nPresenter: Ben Keiser
URL:https://empoweringpumps.com/event/applied-flow-technology-pump-system-interaction/
LOCATION:Webinar
ATTACH;FMTTYPE=image/png:https://empoweringpumps.com/wp-content/uploads/2024/03/AFT-Pump-System-Interaction.png
END:VEVENT
END:VCALENDAR