BEGIN:VCALENDAR
VERSION:2.0
PRODID:-//Empowering Pumps and Equipment - ECPv6.15.19//NONSGML v1.0//EN
CALSCALE:GREGORIAN
METHOD:PUBLISH
X-WR-CALNAME:Empowering Pumps and Equipment
X-ORIGINAL-URL:https://empoweringpumps.com
X-WR-CALDESC:Events for Empowering Pumps and Equipment
REFRESH-INTERVAL;VALUE=DURATION:PT1H
X-Robots-Tag:noindex
X-PUBLISHED-TTL:PT1H
BEGIN:VTIMEZONE
TZID:America/Chicago
BEGIN:DAYLIGHT
TZOFFSETFROM:-0600
TZOFFSETTO:-0500
TZNAME:CDT
DTSTART:20170312T080000
END:DAYLIGHT
BEGIN:STANDARD
TZOFFSETFROM:-0500
TZOFFSETTO:-0600
TZNAME:CST
DTSTART:20171105T070000
END:STANDARD
BEGIN:DAYLIGHT
TZOFFSETFROM:-0600
TZOFFSETTO:-0500
TZNAME:CDT
DTSTART:20180311T080000
END:DAYLIGHT
BEGIN:STANDARD
TZOFFSETFROM:-0500
TZOFFSETTO:-0600
TZNAME:CST
DTSTART:20181104T070000
END:STANDARD
BEGIN:DAYLIGHT
TZOFFSETFROM:-0600
TZOFFSETTO:-0500
TZNAME:CDT
DTSTART:20190310T080000
END:DAYLIGHT
BEGIN:STANDARD
TZOFFSETFROM:-0500
TZOFFSETTO:-0600
TZNAME:CST
DTSTART:20191103T070000
END:STANDARD
END:VTIMEZONE
BEGIN:VEVENT
DTSTART;TZID=America/Chicago:20180829T120000
DTEND;TZID=America/Chicago:20180829T133000
DTSTAMP:20260421T153809
CREATED:20180619T205752Z
LAST-MODIFIED:20180619T205752Z
UID:22060-1535544000-1535549400@empoweringpumps.com
SUMMARY:Latest Developments in Water Infrastructure Funding Webinar
DESCRIPTION:Both the Administration and Congress agree investment in infrastructure is needed\, but the devil is always in the details\, particularly funding. This webinar will outline developments the water sector needs to prepare for. Involved in these developments is how the first round of projects is proceeding under the Water Infrastructure Finance and Innovation Act (WIFIA) program\, plus possible changes to WIFIA or the state revolving loan fund programs. We will discuss the Trump Administration’s infrastructure proposals and other future developments we foresee in infrastructure finance. \nThis webinar will help water utility managers and finance officers get a better grasp of the future nature of federal infrastructure finance tools to help them plan their own financing of projects. \nOf critical concern to water utilities is where the lowest-cost finance options for infrastructure projects are to be found. As a result of this webinar\, utility leaders can begin to pursue financing options that make the most sense for their organizations. \nLearning Objectives: \n\nGain understanding of what federally based infrastructure tools are available.\nReach a greater comfort level with the relatively new WIFIA tool.\nAchieve insight into possible changes or additions to the existing finance toolkit.\nBecome better able to make informed decisions on what infrastructure finance tools to pursue. for his or her own utility.\n\nA single registration allows the convenience of individual training from your desktop computer. For multiple participants\, select the Group registration box and add to cart. \nBy registering for this webinar\, you submit your information and email addresses to the sponsors who will use it to communicate with you regarding this event and their services. \nIf you do not wish to receive any emails from our webinar sponsors you may follow the sponsors’ opt out or unsubscribe instructions following receipt of an email from them. You will not be able to opt out prior to receiving an initial email from our webinar sponsors. \nREGISTER NOW!
URL:https://empoweringpumps.com/event/awwa-latest-developments-in-water-infrastructure-funding-webinar/
LOCATION:Webinar
ATTACH;FMTTYPE=image/jpeg:https://empoweringpumps.com/wp-content/uploads/2016/09/awwa-640x400-1.jpg
END:VEVENT
END:VCALENDAR